BEGIN:VCALENDAR
VERSION:2.0
PRODID:-//eventon.com NONSGML v1.0//EN
CALSCALE:GREGORIAN
METHOD:PUBLISH
BEGIN:VEVENT
UID:69e4cf01f2567
DTSTAMP:20260419T124801Z
DTSTART:20250920T170000Z
DTEND:20250920T210000Z
LOCATION:Moritzplatz 1a\,  39124 Magdeburg\,  Germany Moritzplatz 1a\,  39124 Magdeburg\,  Germany
SUMMARY:Apparatschik live in Magdeburg
DESCRIPTION:Tanzen und feiern mit besten Taiga Tunes &#038; Speed Folk Groo
 ves Apparatschik\,  die legendäre Berliner Band\,  bringt ihre unwidersteh
 liche Mischung aus osteuropäischem Folk\,  Polka\,  Ska und modernen Clubb
 eats in die Landeshauptstadt – mit Balalaika\,  Akkordeon\,  Kontrabass-B
 alalaika und Schlagzeug im Gepäck.
URL:https://magdeboogie.de/events/apparatschik-live-in-magdeburg/
END:VEVENT
END:VCALENDAR