BEGIN:VCALENDAR
VERSION:2.0
PRODID:-//eventon.com NONSGML v1.0//EN
CALSCALE:GREGORIAN
METHOD:PUBLISH
BEGIN:VEVENT
UID:69e774e21600d
DTSTAMP:20260421T130018Z
DTSTART:20251214T150000Z
DTEND:20251214T180000Z
LOCATION:Moritzplatz 1 39124 Magdeburg-Neustadt\,  Germany Moritzplatz 1\,  39124 Magdeburg-Neustadt\,  Germany
SUMMARY:Raumpatrouille Sumsemann „Der kleine Prinz”… - FamilienKONZERT
DESCRIPTION:In der Wüste muss ein Pilot mit seinem Flugzeug notlanden und 
 begegnet einem kleinen Prinzen\,  der ihm seine Geschichte erzählt: wie er
  seinen Planeten und seine Rose verließ\,  wie er auf seiner Reise die sel
 tsamen Asteroidenbewohner traf\,  den König ohne Untertanen etwa\,  den Tr
 inker\,  den Geschäftsmann\,  den Laternenanzünder\,  und wie[..]
URL:https://magdeboogie.de/events/jazz-for-kids-raumpatrouille-sumsemann-der-kleine-prinz-familienkonzert/
END:VEVENT
END:VCALENDAR