BEGIN:VCALENDAR
VERSION:2.0
PRODID:-//eventon.com NONSGML v1.0//EN
CALSCALE:GREGORIAN
METHOD:PUBLISH
BEGIN:VEVENT
UID:69e75ed7c4432
DTSTAMP:20260421T112615Z
DTSTART:20250918T170000Z
DTEND:20250918T200000Z
LOCATION:Datsche Datsche
SUMMARY:Ein Datschenkonzert mit ABARRA
DESCRIPTION:Abarra\,  benannt nach dem arabischen Wort für „Fähre“\, 
  verbindet durch seine Musik vielfältige kulturelle Hintergründe. Das Ens
 emble\,  bestehend aus Mitgliedern aus drei verschiedenen Ländern mit klas
 sischer Musikausbildung\,  verschmilzt orientalische Klänge von Instrument
 en wie Oud und Saz mit dem satten Klang einer Bratsche. Klarinette\,  Saxop
 hon und Fagott verleihen eine orchestrale Note\, [..]
URL:https://magdeboogie.de/events/ein-datschenkonzert-mit-abarra/
END:VEVENT
END:VCALENDAR