BEGIN:VCALENDAR
VERSION:2.0
PRODID:-//eventon.com NONSGML v1.0//EN
CALSCALE:GREGORIAN
METHOD:PUBLISH
BEGIN:VEVENT
UID:69e7349242499
DTSTAMP:20260421T082554Z
DTSTART:20251011T180000Z
DTEND:20251011T210000Z
LOCATION:Moritzhof Moritzhof
SUMMARY:Karl die Große im Moritzhof -  Aufgehoben Tour 2025 (Trio)
DESCRIPTION:Live mit neuem Album und in neuer Trio-Besetzung Nach dem gefei
 erten Album Was wenn keiner lacht (2021) und einer Zeit des Umbruchs kehrt 
 Karl die Große 2025 auf die Bühne zurück in einer neuen\,  kraftvollen T
 rio-Besetzung. Wencke Wollny singt mit ihrer unverwechselbaren Stimme und b
 egleitet sich an Gitarre und Klavier.[..]
URL:https://magdeboogie.de/events/karl-die-grosse-im-moritzhof-aufgehoben-tour-2025-trio/
END:VEVENT
END:VCALENDAR