BEGIN:VCALENDAR
VERSION:2.0
PRODID:-//eventon.com NONSGML v1.0//EN
CALSCALE:GREGORIAN
METHOD:PUBLISH
BEGIN:VEVENT
UID:69e7756e78879
DTSTAMP:20260421T130238Z
DTSTART:20251010T120000Z
DTEND:20251010T150000Z
LOCATION:Gröninger Str. 2 39122 Magdeburg\,  Germany Gröninger Str. 2\,  39122 Magdeburg\,  Germany
SUMMARY:Musikmentor*innen-Ausbildung in Sachsen-Anhalt
DESCRIPTION:Die Ausbildung zum/zur Musikmentor*in in Sachsen-Anhalt richtet
  sich an Jugendliche und Erwachsene ab 16 Jahren\,  die über musikalische 
 Vorkenntnisse verfügen und sich in Chören\,  Instrumentalensembles oder d
 er Veranstaltungstechnik engagieren möchten. Die Ausbildung wird in drei W
 ochenendblöcken angeboten und schließt mit einem Zertifikat ab\,  das von
  der Staatskanzlei und dem Ministerium[..]
URL:https://magdeboogie.de/events/musikmentorinnen-ausbildung-in-sachsen-anhalt/
END:VEVENT
END:VCALENDAR