BEGIN:VCALENDAR
VERSION:2.0
PRODID:-//eventon.com NONSGML v1.0//EN
CALSCALE:GREGORIAN
METHOD:PUBLISH
BEGIN:VEVENT
UID:69e8a007dcab1
DTSTAMP:20260422T101639Z
DTSTART:20250921T080000Z
DTEND:20250921T120000Z
LOCATION:Hohepfortewall\,  1\,  39104 Magdeburg\,  Germany Hohepfortewall\,  1\,  39104 Magdeburg\,  Germany
SUMMARY:🦋 Luises Garten Special 👜 Vintage Flohmarkt\,  DJs\,  Tattoos\,  Piercings\,  Essensretter\,  More 10-14 Uhr
DESCRIPTION:Metamorphosis mit Vintage Flohmarktin Luises Garten Nach dem gr
 oßen Erfolg im Mai gibt es wieder ein Flohmarkt-Special mit vielen Extras.
  Freu dich auf feinste Beats\,  einen Second-Hand &#038; Vintage-Klamotten 
 Flohmarkt\,  Kunst &#038; Schmuck von jungen Künstler*innen\,  Tattoos\,  
 Tooth Gems\,  Food und vieles mehr. Die gemütliche Open-Air-Oase an der Fe
 stung Mark[..]
URL:https://magdeboogie.de/events/%f0%9f%a6%8b-luises-garten-special-%f0%9f%91%9c-vintage-flohmarkt-djs-tattoos-piercings-essensretter-more-10-14-uhr/
END:VEVENT
END:VCALENDAR