BEGIN:VCALENDAR
VERSION:2.0
PRODID:-//eventon.com NONSGML v1.0//EN
CALSCALE:GREGORIAN
METHOD:PUBLISH
BEGIN:VEVENT
UID:69e734722bc53
DTSTAMP:20260421T082522Z
DTSTART:20260110T190000Z
DTEND:20260110T220000Z
LOCATION:Moritzplatz 1 39124 Magdeburg-Neustadt\,  Germany Moritzplatz 1\,  39124 Magdeburg-Neustadt\,  Germany
SUMMARY:Hasenscheisse "Acoustic Guitar Trash Ballade"...KONZERT
DESCRIPTION:Der Bandname „Hasenscheisse“ mag für manche Menschen noch 
 immer eine Zumutung sein. Erst kürzlich wurde an die Band herangetragen\, 
  sie solle sich doch lieber in „Mandelblüte“ umbenennen. Das wäre nic
 ht nur schöner im Klang\,  sondern auch der Kariere zuträglicher. Aber di
 e Jungs ziehen es durch. Die Männer der MS Hasenscheisse[..]
URL:https://magdeboogie.de/events/hasenscheisse-acoustic-guitar-trash-ballade-konzert/
END:VEVENT
END:VCALENDAR