BEGIN:VCALENDAR
VERSION:2.0
PRODID:-//eventon.com NONSGML v1.0//EN
CALSCALE:GREGORIAN
METHOD:PUBLISH
BEGIN:VEVENT
UID:69e89fad2271c
DTSTAMP:20260422T101509Z
DTSTART:20260321T183000Z
DTEND:20260321T213000Z
LOCATION:Moritzplatz 1 39124 Magdeburg-Neustadt\,  Germany Moritzplatz 1\,  39124 Magdeburg-Neustadt\,  Germany
SUMMARY:Kapa Tult "Immer alles gleichzeitig" ... KONZERT
DESCRIPTION:Nach dem tollen Erfolg ihres kleinen Indiehits „1/2 Cappuccin
 o“ gehen Kapa Tult aus Leipzig im Herbst 2025 den nächsten Schritt. Ihre
  neue Single „Es bringt mir nichts“ (aufgenommen mit Produzenten-Wizard
  Moses Schneider) klingt roher und dringlicher als die bisherigen Veröf-fe
 ntlichungen der Band. Und bringt typische Kapa Tult-Themen auch musikalisch
  auf[..]
URL:https://magdeboogie.de/events/kapa-tult-immer-alles-gleichzeitig-konzert/
END:VEVENT
END:VCALENDAR