BEGIN:VCALENDAR
VERSION:2.0
PRODID:-//eventon.com NONSGML v1.0//EN
CALSCALE:GREGORIAN
METHOD:PUBLISH
BEGIN:VEVENT
UID:69e88ab59ae03
DTSTAMP:20260422T084541Z
DTSTART:20251008T173000Z
DTEND:20251008T190000Z
LOCATION:Schauspielhaus Magdeburg Schauspielhaus Magdeburg
SUMMARY:Floortime\,  baby!
DESCRIPTION:Eine Post-Covid-Lecture-Performance von und mit DÖs Kollektiv 
 (Sophie Lenglachner\,  Kristin Fabig) Premiere am Mi. 8.10.25→ Schauspiel
 haus\,  Kasino Chronische Erkrankung meets Lebensfreude. Wie geht es eigent
 lich den Tausenden Betroffenen von Long/Post-Covid/Post Vacc/mecfs? Was ist
  die Lebensrealität\,  mit der diese Menschen sich Tag für Tag auseinande
 rsetzen müssen? Die Welt dreht sich nach[..]
URL:https://magdeboogie.de/events/floortime-baby/
END:VEVENT
END:VCALENDAR