BEGIN:VCALENDAR
VERSION:2.0
PRODID:-//eventon.com NONSGML v1.0//EN
CALSCALE:GREGORIAN
METHOD:PUBLISH
BEGIN:VEVENT
UID:69e8a572a5539
DTSTAMP:20260422T103946Z
DTSTART:20251218T180000Z
DTEND:20251218T210000Z
LOCATION:Breiter Weg 252\,  39104 Magdeburg\,  Germany Breiter Weg 252\,  39104 Magdeburg\,  Germany
SUMMARY:DECIPHER / Greece + In Demoni / MD
DESCRIPTION:&#8222;Decipher&#8220; is a black metal band formed in Athens\,
   Greece in 2017. Their debut EP &#8222;Of Fire and Brimstone&#8220; was re
 leased in 2019 and since then they have performed throughout Greece and abr
 oad in festivals and opening for other acts (Chania Rock Festival\,  Arctur
 us\,  Wolves in the Throne Room\,  Misþyrming[..]
URL:https://magdeboogie.de/events/decipher-greece/
END:VEVENT
END:VCALENDAR