BEGIN:VCALENDAR
VERSION:2.0
PRODID:-//eventon.com NONSGML v1.0//EN
CALSCALE:GREGORIAN
METHOD:PUBLISH
BEGIN:VEVENT
UID:69e736eb3f876
DTSTAMP:20260421T083555Z
DTSTART:20250926T170000Z
DTEND:20250926T200000Z
LOCATION:Elbbalkon Elbbalkon
SUMMARY:Critical Mass Magdeburg September 2025
DESCRIPTION:Es geht wieder los 😊 Dies ist keine Veranstaltung mit einem 
 Veranstalter! Jeder fährt auf eigenes Risiko! Diese Mitteilung hier dient 
 einzig der Terminerinnerung. WIR BLOCKIEREN NICHT DEN VERKEHR &#8211; WIR S
 IND DER VERKEHR! Schnappt euch euren Drahtesel und lasst uns die Straße St
 ück für Stück zurückerobern. Critical-Mass unter diesem[..]
URL:https://magdeboogie.de/events/critical-mass-magdeburg-september-2025/
END:VEVENT
END:VCALENDAR