BEGIN:VCALENDAR
VERSION:2.0
PRODID:-//eventon.com NONSGML v1.0//EN
CALSCALE:GREGORIAN
METHOD:PUBLISH
BEGIN:VEVENT
UID:69e8a12e34588
DTSTAMP:20260422T102134Z
DTSTART:20251129T110000Z
DTEND:20251129T140000Z
LOCATION:Annastraße 40 39108 Magdeburg\,  Germany Annastraße 40\,  39108 Magdeburg\,  Germany
SUMMARY:Kiezgestöber 2025
DESCRIPTION:Auch dieses Jahr laden wir\,  zusammen mit vielen anderen Einze
 lhändler:innen und Macher:innen zu einem vorweihnachtlichen Kiezbummel zwi
 schen Immermann- und Lessingstraße ein.
URL:https://magdeboogie.de/events/kiezgestoeber-2025/
END:VEVENT
END:VCALENDAR