BEGIN:VCALENDAR
VERSION:2.0
PRODID:-//eventon.com NONSGML v1.0//EN
CALSCALE:GREGORIAN
METHOD:PUBLISH
BEGIN:VEVENT
UID:69e734ff33924
DTSTAMP:20260421T082743Z
DTSTART:20250928T080000Z
DTEND:20250928T110000Z
LOCATION:Breiter Weg 30\,  39104 Magdeburg\,  Germany Breiter Weg 30\,  39104 Magdeburg\,  Germany
SUMMARY:ECOM Doppelworkshop Kultur für die ganze Familie
DESCRIPTION:Findest du nicht auch\,  dass es viel zu wenige Kulturformate g
 ibt\,  die Familien mitdenken? Oft müssen Eltern sich entscheiden: Spielpl
 atz oder Kunstausstellung\,  Kinderprogramm oder Raven im Park. Wir wollen 
 das ändern! Beim KuFam-Thementag tauschen wir Erfahrungen aus\,  sammeln B
 est Practices und entwickeln gemeinsam Bausteine für neue Formate\,  die K
 inder\,  Jugendliche[..]
URL:https://magdeboogie.de/events/ecom-doppelworkshop-kultur-fuer-die-ganze-familie/
END:VEVENT
END:VCALENDAR