BEGIN:VCALENDAR
VERSION:2.0
PRODID:-//eventon.com NONSGML v1.0//EN
CALSCALE:GREGORIAN
METHOD:PUBLISH
BEGIN:VEVENT
UID:69e7351d3f067
DTSTAMP:20260421T082813Z
DTSTART:20250929T190000Z
DTEND:20250929T213000Z
LOCATION:Moritzhof Magdeburg Moritzhof Magdeburg
SUMMARY:Film & Gespräch "Die Möllner Briefe"
DESCRIPTION:Im November 1992 zerstörte der rassistische Brandanschlag von 
 Mölln die Leben von İbrahim Arslan und seiner Familie. Der damals siebenj
 ährige İbrahim überlebte\,  verlor aber seine Schwester\,  seine Cousine
  und seine Großmutter. Die Stadt Mölln erhielt Hunderte Briefe mit Solida
 ritätsbekundungen\,  von denen aber fast drei Jahrzehnte niemand Notiz nah
 m. Der Film[..]
URL:https://magdeboogie.de/events/film-gespraech-die-moellner-briefe/
END:VEVENT
END:VCALENDAR