BEGIN:VCALENDAR
VERSION:2.0
PRODID:-//eventon.com NONSGML v1.0//EN
CALSCALE:GREGORIAN
METHOD:PUBLISH
BEGIN:VEVENT
UID:69e748cef24b7
DTSTAMP:20260421T095214Z
DTSTART:20260313T180000Z
DTEND:20260313T220000Z
LOCATION:Insel der Jugend Insel der Jugend
SUMMARY:AchtVier – Kein Zufall Tour 2026
DESCRIPTION:AchtVierKein Zufall Tour 202613.03.2026 | Insel der Jugend Magd
 eburgEinlass: 19 UhrKonzertbeginn: 20 Uhr
URL:https://magdeboogie.de/events/achtvier-kein-zufall-tour-2026/
END:VEVENT
END:VCALENDAR