BEGIN:VCALENDAR
VERSION:2.0
PRODID:-//eventon.com NONSGML v1.0//EN
CALSCALE:GREGORIAN
METHOD:PUBLISH
BEGIN:VEVENT
UID:69e77046c5961
DTSTAMP:20260421T124038Z
DTSTART:20251011T080000Z
DTEND:20251011T120000Z
LOCATION:Annastraße 40 39108 Magdeburg\,  Germany Annastraße 40\,  39108 Magdeburg\,  Germany
SUMMARY:ERNAs Veganer Brunch
DESCRIPTION:Ihr habt ihn euch zahlreich gewünscht und nach der Sommerpause
  ist er zurück: Wir laden euch herzlich ein zu unserem leckeren veganen Br
 unch aka Gemütliches Familienfrühstück. Kommt alleine oder bringt Freund
 e &#038; Familie mit\,  es wird auf jedenfall herbstlich-gemütlich! Unsere
  Küchen-Ernies zaubern für euch Humus\,  Focaccia\,  Antipasti\,  Chia De
 ssert\,  Pancake\, [..]
URL:https://magdeboogie.de/events/ernas-veganer-brunch/
END:VEVENT
END:VCALENDAR