BEGIN:VCALENDAR
VERSION:2.0
PRODID:-//eventon.com NONSGML v1.0//EN
CALSCALE:GREGORIAN
METHOD:PUBLISH
BEGIN:VEVENT
UID:69e75f4acb94b
DTSTAMP:20260421T112810Z
DTSTART:20251108T220000Z
DTEND:20251109T010000Z
LOCATION:PRINZZCLUB PRINZZCLUB
SUMMARY:Throwback Saturday - 2000er vs 2010er KIDS! w/ DJ HNS
DESCRIPTION:Das Ende des zweiten Jahrzehnts der 2000er ist vollbracht und w
 ir ziehen die musikalische Bilanz! Harlem Shake\,  Gangnam Style und der er
 ste Sieg für Deutschland seit 28 Jahren beim Eurovision Songcontest. Wir s
 chmeißen heute Nacht die besten Tracks der 00er &#038; 10er in einen Topf 
 und bringen den Klub richtig[..]
URL:https://magdeboogie.de/events/throwback-saturday-2000er-vs-2010er-kids-w-dj-hns/
END:VEVENT
END:VCALENDAR