BEGIN:VCALENDAR
VERSION:2.0
PRODID:-//eventon.com NONSGML v1.0//EN
CALSCALE:GREGORIAN
METHOD:PUBLISH
BEGIN:VEVENT
UID:69e8a6230a1f8
DTSTAMP:20260422T104243Z
DTSTART:20251019T113000Z
DTEND:20251019T150000Z
LOCATION:Breiter Weg 30\,  39104 Magdeburg\,  Germany Breiter Weg 30\,  39104 Magdeburg\,  Germany
SUMMARY:🎛 Beyond the Loop – Producing für Fortgeschrittene
DESCRIPTION:🎛 Beyond the Loop – Producing für Fortgeschrittene Deine 
 Tracks stehen – aber du willst mehr aus ihnen rausholen? Im Fortgeschritt
 enen-Workshop mit *Dante* lernst du\,  wie du deinen Sound verfeinerst\,  D
 ynamik schaffst und deine Produktionen professionell abrundest. Themen sind
 : Mixing\,  Arrangement\,  Sounddesign\,  Kompression\,  EQ und der kreativ
 e Umgang mit Samples.[..]
URL:https://magdeboogie.de/events/%f0%9f%8e%9b-beyond-the-loop-producing-fuer-fortgeschrittene/
END:VEVENT
END:VCALENDAR