BEGIN:VCALENDAR
VERSION:2.0
PRODID:-//eventon.com NONSGML v1.0//EN
CALSCALE:GREGORIAN
METHOD:PUBLISH
BEGIN:VEVENT
UID:69e9d6f617679
DTSTAMP:20260423T082318Z
DTSTART:20251025T200000Z
DTEND:20251025T230000Z
LOCATION:♫♫♫♪♪♪ DEEP - BEATS &amp; DRINKS ♪♪♪♫♫♫ ♫♫♫♪♪♪ DEEP - BEATS & DRINKS ♪♪♪♫♫♫
SUMMARY:\, \, Respect to the Music " (The Undergroundedition )
DESCRIPTION:Respect to the Music&#8230;.! The Undergroundedition. Line Up &
 #8230;!Ascon Bates (mindjacking rec\, drugmaschine ink\, solid rush) Roma (
  former alte papierfabrik\, Elitekoepfe) Duncan LIVE (ghettomania\, ed\, eg
 o plastik\,  nerven records) Brox Kadus (ghettomania\, md-allstars\, hail t
 he light rec) Mash Funk ( former altes salzwerk wilhelmshall \,  alte weber
 ei)
URL:https://magdeboogie.de/events/respect-to-the-music-the-undergroundedition/
END:VEVENT
END:VCALENDAR