BEGIN:VCALENDAR
VERSION:2.0
PRODID:-//eventon.com NONSGML v1.0//EN
CALSCALE:GREGORIAN
METHOD:PUBLISH
BEGIN:VEVENT
UID:69e8baf019dc6
DTSTAMP:20260422T121128Z
DTSTART:20260307T190000Z
DTEND:20260307T210000Z
LOCATION:Moritzplatz 1 39124 Magdeburg-Neustadt\,  Germany Moritzplatz 1\,  39124 Magdeburg-Neustadt\,  Germany
SUMMARY:Simon & Jan "Das Beste" - KONZERT
DESCRIPTION:Simon &#038; Jan\,  die kabarettistischen Liedermacher Simon Ei
 ckhoff und Jan Traphan\,  haben in Kneipen begonnen. Sie sind von Barhocker
 n gefallen und sanft auf den großen Bühnen der Republik gelandet. Sie war
 en mit Götz Widmann auf Tour und wurden mit nahezu allen Kabarettpreisen a
 usgezeichnet\,  die der deutschsprachige Raum zu bieten hat.[..]
URL:https://magdeboogie.de/events/simon-jan-das-beste-konzert-2/
END:VEVENT
END:VCALENDAR