BEGIN:VCALENDAR
VERSION:2.0
PRODID:-//eventon.com NONSGML v1.0//EN
CALSCALE:GREGORIAN
METHOD:PUBLISH
BEGIN:VEVENT
UID:69eb28705ad3a
DTSTAMP:20260424T082312Z
DTSTART:20251108T093000Z
DTEND:20251108T123000Z
LOCATION:Netzwerk Freie Kultur Netzwerk Freie Kultur
SUMMARY:💡 Wie gründe ich einen Verein? – Von der Idee bis zur Umsetzung
DESCRIPTION:💡 Wie gründe ich einen Verein? – Von der Idee bis zur Ums
 etzung Du hast ein Kollektiv\,  eine Gruppe oder ein Projekt\,  das auf Dau
 er Bestand haben soll? Dann ist jetzt der Moment\,  über die Vereinsgründ
 ung nachzudenken. Falko Jentsch zeigt dir\,  wie du von der Idee zur einget
 ragenen Struktur kommst.Er[..]
URL:https://magdeboogie.de/events/%f0%9f%92%a1-wie-gruende-ich-einen-verein-von-der-idee-bis-zur-umsetzung/
END:VEVENT
END:VCALENDAR