BEGIN:VCALENDAR
VERSION:2.0
PRODID:-//eventon.com NONSGML v1.0//EN
CALSCALE:GREGORIAN
METHOD:PUBLISH
BEGIN:VEVENT
UID:69e88f4e5fb7a
DTSTAMP:20260422T090518Z
DTSTART:20251029T183000Z
DTEND:20251029T213000Z
LOCATION:Brauhaus Brewckau Brauhaus Brewckau
SUMMARY:Halloween Wednesday English Stammtisch @ Brewery Brewckau
DESCRIPTION:Response to this event is not necessary for attending the meet-
 up. It serves mainly for sharing event information. Look for a table with π
 ΊπΈ/π¬π§ flag. Let&#8217;s meet in Halloween costumes π§ It can b
 e something simple\,  you don&#8217;t have to over-think it and if you come
  in you casual outfit\, [..]
URL:https://magdeboogie.de/events/halloween-wednesday-english-stammtisch-brewery-brewckau/
END:VEVENT
END:VCALENDAR