BEGIN:VCALENDAR
VERSION:2.0
PRODID:-//eventon.com NONSGML v1.0//EN
CALSCALE:GREGORIAN
METHOD:PUBLISH
BEGIN:VEVENT
UID:69e74bee40a7b
DTSTAMP:20260421T100534Z
DTSTART:20251126T180000Z
DTEND:20251126T210000Z
LOCATION:Thiemstr. 7 39104 Magdeburg\,  Germany Thiemstr. 7\,  39104 Magdeburg\,  Germany
SUMMARY:Musikalische Lesung mit Regina Jarisch und Martin Müller: Herzflüge und Wörtertanz
DESCRIPTION:Regina Jarisch aus Weimar – aufgewachsen in Magdeburg – lie
 st aus ihren Gedichtbänden „herzflug“ (2020) mit Grafiken von Jost Hey
 der und „tatsächlich tanzen“ (2025) mit Fotografien von Gudrun Wiesman
 n (Leipziger Literaturverlag). Die Gedichte verweben am langen Faden Erlebt
 es\,  Beobachtetes\,  Zeitgeschehen sowie Sehnsucht und Suche. Hin und wied
 er nimmt sie ein[..]
URL:https://magdeboogie.de/events/musikalische-lesung-mit-regina-jarisch-und-martin-mueller-herzfluege-und-woertertanz/
END:VEVENT
END:VCALENDAR