BEGIN:VCALENDAR
VERSION:2.0
PRODID:-//eventon.com NONSGML v1.0//EN
CALSCALE:GREGORIAN
METHOD:PUBLISH
BEGIN:VEVENT
UID:69e74954b6eee
DTSTAMP:20260421T095428Z
DTSTART:20251214T150000Z
DTEND:20251214T180000Z
LOCATION:Literaturhaus Magdeburg Literaturhaus Magdeburg
SUMMARY:Weihnachtslesung mit den Kammerspielen: Pettersson und Findus. Morgen\,  Findus\,  wird's was geben
DESCRIPTION:In &#8222;Morgen\,  Findus\,  wird&#8217;s was geben&#8220; von
  Sven Nordqvist wird die Vorfreude auf Weihnachten großgeschrieben. Der al
 te Pettersson und sein lebhafter Kater Findus bereiten sich auf das Fest vo
 r. Pettersson\,  der seinem Kater Findus vom Weihnachtsmann erzählt hat\, 
  steht nun vor der Herausforderung\,  dessen sehnlichsten Wunsch zu erfüll
 en: Findus möchte[..]
URL:https://magdeboogie.de/events/weihnachtslesung-mit-den-kammerspielen-pettersson-und-findus-morgen-findus-wirds-was-geben/
END:VEVENT
END:VCALENDAR