BEGIN:VCALENDAR
VERSION:2.0
PRODID:-//eventon.com NONSGML v1.0//EN
CALSCALE:GREGORIAN
METHOD:PUBLISH
BEGIN:VEVENT
UID:69e75f3f791b4
DTSTAMP:20260421T112759Z
DTSTART:20251106T180000Z
DTEND:20251106T210000Z
LOCATION:einewelt haus Magdeburg einewelt haus Magdeburg
SUMMARY:"Der Nachtarzt" - Kinoabend mit der DFG Magdeburg im einewelthaus
DESCRIPTION:Die Deutsch-Französische Gesellschaft Magdeburg e.V. und das I
 nstitut français Sachsen-Anhalt präsentieren den Film „Der Nachtarzt“
  („Médecin de nuit“) von Elie Wajeman. Am 6. November um 19 UhrIm eine
 welthaus MagdeburgEintritt frei Mikaël ist Nachtarzt. Er behandelt Patient
 en aus schwierigen Vierteln\,  aber auch diejenigen\,  die niemand sehen wi
 ll: Drogenabhängige. Hin- und hergerissen[..]
URL:https://magdeboogie.de/events/der-nachtarzt-kinoabend-mit-der-dfg-magdeburg-im-einewelthaus/
END:VEVENT
END:VCALENDAR