BEGIN:VCALENDAR
VERSION:2.0
PRODID:-//eventon.com NONSGML v1.0//EN
CALSCALE:GREGORIAN
METHOD:PUBLISH
BEGIN:VEVENT
UID:69e75eeb49f55
DTSTAMP:20260421T112635Z
DTSTART:20251120T183000Z
DTEND:20251120T213000Z
LOCATION:Bluenote Magdeburg Bluenote Magdeburg
SUMMARY:Konzert: Ben Racken
DESCRIPTION:BEN RACKEN – Punkrock aus Magdeburg Seit 2008 steht der Name 
 Ben Racken für geradlinigen\,  deutschsprachigen Punkrock aus Magdeburg. D
 ie Band verbindet energiegeladene Songs mit eingängigen Melodien\,  Pathos
  und großen Refrains\,  ohne dabei die notwendige Kante zu verlieren. Musi
 kalisch bewegen sich Ben Racken zwischen dem Düsterpunk von EA80 und dem[.
 .]
URL:https://magdeboogie.de/events/konzert-ben-racken-2/
END:VEVENT
END:VCALENDAR