BEGIN:VCALENDAR
VERSION:2.0
PRODID:-//eventon.com NONSGML v1.0//EN
CALSCALE:GREGORIAN
METHOD:PUBLISH
BEGIN:VEVENT
UID:69e7a526d45f9
DTSTAMP:20260421T162614Z
DTSTART:20251108T183000Z
DTEND:20251108T213000Z
LOCATION:Bluenote Magdeburg Bluenote Magdeburg
SUMMARY:Konzert: " Werner Bettge Band"
DESCRIPTION:Die Werner Bettge Band ist zurück in Magdeburg! Seit Jahren be
 geistert die Formation ihr Publikum mit energiegeladenen Konzerten\,  die t
 iefgründige Texte\,  lyrische Kraft und spürbare Spielfreude vereinen. We
 rner Bettge\,  Träger des renommierten Rio Reiser Songpreises\,  steht mit
  seinen Musikern für authentische deutschsprachige Songs\,  die berühren 
 und mitreißen. Bereits mehrfach haben[..]
URL:https://magdeboogie.de/events/konzert-werner-bettge-band-4/
END:VEVENT
END:VCALENDAR