BEGIN:VCALENDAR
VERSION:2.0
PRODID:-//eventon.com NONSGML v1.0//EN
CALSCALE:GREGORIAN
METHOD:PUBLISH
BEGIN:VEVENT
UID:69e8a0d3bdff1
DTSTAMP:20260422T102003Z
DTSTART:20251231T160000Z
DTEND:20251231T190000Z
LOCATION:Zollstraße 19 39114 Magdeburg\,  Germany Zollstraße 19\,  39114 Magdeburg\,  Germany
SUMMARY:Dinner for One
DESCRIPTION:Das Insel Theater setzt die Tradition fort – an Silvester spi
 elen wir „Dinner for One“! Zu Gast bei Miss Sophie und Butler James sti
 mmen wir uns bei Secco und Mulligatawny-Soup auf den Rutsch ins neue Jahr e
 in. Einlass 16:30.
URL:https://magdeboogie.de/events/dinner-for-one-4/
END:VEVENT
END:VCALENDAR