BEGIN:VCALENDAR
VERSION:2.0
PRODID:-//eventon.com NONSGML v1.0//EN
CALSCALE:GREGORIAN
METHOD:PUBLISH
BEGIN:VEVENT
UID:69eb29698ddbe
DTSTAMP:20260424T082721Z
DTSTART:20251113T160000Z
DTEND:20251113T190000Z
LOCATION:Netzwerk Freie Kultur Netzwerk Freie Kultur
SUMMARY:Kollektiv-\,  Netzwerk- & Austauschabend
DESCRIPTION:Kollektiv-\,  Netzwerk- &#038; Austauschabend 📅 13. November
  2025 🕐 17:00 – 20:00 Uhr 📍 EinLaden\,  Breiter Weg 30\,  Magdeburg
  Ein offener Abend zum Quatschen\,  Vernetzen und voneinander Lernen. Gemei
 nsam mit verschiedenen Kollektiven aus Sachsen-Anhalt sprechen wir über Th
 emen\,  die in der Zusammenarbeit immer wieder eine Rolle spielen: &#8211; 
 Wie entsteht[..]
URL:https://magdeboogie.de/events/kollektiv-netzwerk-austauschabend/
END:VEVENT
END:VCALENDAR