BEGIN:VCALENDAR
VERSION:2.0
PRODID:-//eventon.com NONSGML v1.0//EN
CALSCALE:GREGORIAN
METHOD:PUBLISH
BEGIN:VEVENT
UID:69e7341cc086c
DTSTAMP:20260421T082356Z
DTSTART:20251112T190000Z
DTEND:20251112T220000Z
LOCATION:studiokino magdeburg studiokino magdeburg
SUMMARY:Ninja Motherf*cking Destruction | Wettbewerb Filmkunsttage Sachsen-Anhalt 2025
DESCRIPTION:Marlene und Leonie sind sich sicher\,  dass sie nichts trennen 
 kann. Doch Leonie verliebt sich in Naomi\,  gibt sich ganz ihrer ersten gro
 ßen Liebe hin und entfernt sich immer weiter von ihrer besten Freundin. Er
 st als die Beziehung scheitert\,  merkt sie\,  wie sehr sie sich isoliert h
 at. Sie versucht\,  ihre[..]
URL:https://magdeboogie.de/events/ninja-motherfcking-destruction-wettbewerb-filmkunsttage-sachsen-anhalt-2025/
END:VEVENT
END:VCALENDAR