BEGIN:VCALENDAR
VERSION:2.0
PRODID:-//eventon.com NONSGML v1.0//EN
CALSCALE:GREGORIAN
METHOD:PUBLISH
BEGIN:VEVENT
UID:69e734b017391
DTSTAMP:20260421T082624Z
DTSTART:20251113T140000Z
DTEND:20251113T170000Z
LOCATION:studiokino magdeburg studiokino magdeburg
SUMMARY:In die Sonne schauen | Filmkunsttage Sachsen-Anhalt 2025
DESCRIPTION:Kulturstaatlich gefÃ¶rdertes Kino aus Deutschland ist hÃ¤ufig v
 ieles: grau und ernst\,  etwas steif und starr\,  unterkÃ¼hlt und behÃ¤big.
  Zudem sucht es meistens\,  unsere dunkle historische Vergangenheit zu bewÃ
 ¤ltigen (und wie Â»gutÂ« diese Bildungsarbeit gelingt\,  lÃ¤sst sich ja der
 zeit in Echtzeit beobachten â€¦). Was man mit Kino aus Deutschland seltener
  assoziiert\, [..]
URL:https://magdeboogie.de/events/in-die-sonne-schauen-filmkunsttage-sachsen-anhalt-2025/
END:VEVENT
END:VCALENDAR