BEGIN:VCALENDAR
VERSION:2.0
PRODID:-//eventon.com NONSGML v1.0//EN
CALSCALE:GREGORIAN
METHOD:PUBLISH
BEGIN:VEVENT
UID:69e736d9753fc
DTSTAMP:20260421T083537Z
DTSTART:20251116T140000Z
DTEND:20251116T170000Z
LOCATION:studiokino magdeburg studiokino magdeburg
SUMMARY:Nebelkind - The End of Silence | Gastland Tschechien | Filmkunsttage Sachsen-Anhalt 2025
DESCRIPTION:Auf den Spuren eines entlaufenen Wolfes begibt sich die WolfshÃ
 ¼terin Hannah nur widerwillig in das tschechische Heimatdorf ihrer GroÃŸmut
 ter. Hier lebt Hannahs Mutter\,  die sich mit der versuchten Aufarbeitung d
 er traumatischen Familiengeschichte keine Freunde im Dorf gemacht hat. Auch
  Hannah kann sich der tabuisierten Vergangenheit nicht lÃ¤nger entziehen. C
 Z/AT 2024Regie:[..]
URL:https://magdeboogie.de/events/nebelkind-the-end-of-silence-gastland-tschechien-filmkunsttage-sachsen-anhalt-2025/
END:VEVENT
END:VCALENDAR