BEGIN:VCALENDAR
VERSION:2.0
PRODID:-//eventon.com NONSGML v1.0//EN
CALSCALE:GREGORIAN
METHOD:PUBLISH
BEGIN:VEVENT
UID:69e8a1fa6b281
DTSTAMP:20260422T102458Z
DTSTART:20261212T190000Z
DTEND:20261212T220000Z
LOCATION:Moritzhof Moritzhof
SUMMARY:Duo Stiehler/Lucaciu ...KONZERT
DESCRIPTION:Sie stehen für eine einzigartige Fusion: Klassik trifft auf Ja
 zz\,  Comedy auf Pop. Musik zwischen dem Mut zum Augenschließen und Durchd
 rehen im Sitzen. Nach einer ausverkauften Tournee 2024 und der erfolgreiche
 n Zusammenarbeit mit dem MDR Sinfonieorchester präsentierte das Duo Stiehl
 er/Lucaciu 2025 ihr neues Live Album aus den renommiertesten Tonstudios der
 [..]
URL:https://magdeboogie.de/events/duo-stiehler-lucaciu-konzert/
END:VEVENT
END:VCALENDAR