BEGIN:VCALENDAR
VERSION:2.0
PRODID:-//eventon.com NONSGML v1.0//EN
CALSCALE:GREGORIAN
METHOD:PUBLISH
BEGIN:VEVENT
UID:69e8902150b43
DTSTAMP:20260422T090849Z
DTSTART:20251120T170000Z
DTEND:20251120T183000Z
LOCATION:Moritzhof Moritzhof
SUMMARY:Französische Filmwoche/Eröffnung & Apéro-Präsentation der Festival Trailer erstellt v. Schüler:innen
DESCRIPTION:🎬 𝗘𝗶𝗻𝗹𝗮𝗱𝘂𝗻𝗴: 𝗘𝗿ö𝗳𝗳
 𝘂𝗻𝗴 𝗱𝗲𝗿 𝗙𝗿𝗮𝗻𝘇ö𝘀𝗶𝗰𝗵𝗲𝗻 
 𝗙𝗶𝗹𝗺𝘄𝗼𝗰𝗵𝗲 &#038; 𝗔𝗽é𝗿𝗼 🍷🥖🧀
  𝗣𝗿ä𝘀𝗲𝗻𝘁𝗮𝘁𝗶𝗼𝗻 𝗱𝗲𝘀 𝗣𝗿𝗼
 𝗲𝗸𝘁𝘀 „J’AIME LE CINÉMA“ – Stop-Motion-Kino aus dem F
 ranzösischunterricht 🎞️ Über mehrere Wochen haben Schülerinnen und 
 Schüler des Norbertusgymnasiums und des Werner-von-Siemens-Gymnasiums in M
 agdeburg gemeinsam mit der französischen Künstlerin Laura Fedida im Franz
 ösischunterricht kreative Trailer in Stop-Motion für die[..]
URL:https://magdeboogie.de/events/franzoesische-filmwoche-eroeffnung-apero-praesentation-der-festival-trailer-erstellt-v-schuelerinnen/
END:VEVENT
END:VCALENDAR