BEGIN:VCALENDAR
VERSION:2.0
PRODID:-//eventon.com NONSGML v1.0//EN
CALSCALE:GREGORIAN
METHOD:PUBLISH
BEGIN:VEVENT
UID:69e789a0bd5f4
DTSTAMP:20260421T142848Z
DTSTART:20251210T180000Z
DTEND:20260202T160000Z
LOCATION:Hausärztliche Praxis Heidekatrin Wittler Leipziger Straße 1a\,  39112 Magdeburg
SUMMARY:Zwischen Märchen und Wirklichkeit
DESCRIPTION:Fotografien von Kirsten Mengewein Vernissage:&nbsp;Mittwoch\,  
 10. Dezember 2025\,  18.00 UhrAusstellungszeitraum:&nbsp;10. Dezember 2025 
 bis 2. Februar 2026Ort:&nbsp;Hausärztliche Praxis Heidekathrin Wittler\,  
 Magdeburg Die Fotografin und Grafikerin&nbsp;Kirsten Mengewein&nbsp;zeigt i
 n dieser Ausstellung neue Arbeiten zum Thema Märchen sowie ausgewählte Fo
 tografien aus den vergangenen zehn Jahren. In ihrer aktuellen Serie nutzt s
 ie&nbsp;Polaroid transparency\,  um bekannte[..]
URL:https://magdeboogie.de/events/zwischen-maerchen-und-wirklichkeit/
END:VEVENT
END:VCALENDAR