BEGIN:VCALENDAR
VERSION:2.0
PRODID:-//eventon.com NONSGML v1.0//EN
CALSCALE:GREGORIAN
METHOD:PUBLISH
BEGIN:VEVENT
UID:69e88fd285dea
DTSTAMP:20260422T090730Z
DTSTART:20251129T150000Z
DTEND:20251129T180000Z
LOCATION:Datsche Datsche
SUMMARY:Feliz NaviDatsch x Bass & Butterkekse Edition
DESCRIPTION:Am 29.11.25 öffnet die Datsche in Buckau seine Pforten ab 16 U
 hr zur Feliz NaviDatsch x Bass &#038; Butterkekse Edition. Das heißt\,  eu
 ch erwarten: Ein Weihnachtsmarkt\,  eine familienfreundliche Tanzfläche\, 
  ein gemütlicher KidsSpace\,  Bastelaktionen zur Vorbereitung auf die Weih
 nachtszeit\,  elektronische Musik zum selber Jammen (für Groß und Klein) 
 und natürlich Butterkekse[..]
URL:https://magdeboogie.de/events/feliz-navidatsch-x-bass-butterkekse-edition/
END:VEVENT
END:VCALENDAR