BEGIN:VCALENDAR
VERSION:2.0
PRODID:-//eventon.com NONSGML v1.0//EN
CALSCALE:GREGORIAN
METHOD:PUBLISH
BEGIN:VEVENT
UID:69e9d8cf446b9
DTSTAMP:20260423T083111Z
DTSTART:20251128T150000Z
DTEND:20251128T190000Z
LOCATION:Neptunweg 13\,  39118 Magdeburg\,  Deutschland Neptunweg 13\,  39118 Magdeburg\,  Deutschland
SUMMARY:Funkel-Zauberwald Reform
DESCRIPTION:Wer den Reformer Funkel-Zauberwald betritt\,  wird über ein Li
 chtermeer aus drei Dutzend strahlenden Tannenbäumen staunen. Zwischen den 
 Bäumen sind Elfen\,  Trolle und Tiere des Waldes zu entdecken. Doch der Za
 uberwald birgt zugleich ein märchenhaftes Geheimnis. Gemeinsam mit der Sta
 dtteilbibliothek Reform hat der Bürgerverein ein kniffliges Rätsel im Wal
 dversteckt\,  das es[..]
URL:https://magdeboogie.de/events/funkel-zauberwald-reform/
END:VEVENT
END:VCALENDAR