BEGIN:VCALENDAR
VERSION:2.0
PRODID:-//eventon.com NONSGML v1.0//EN
CALSCALE:GREGORIAN
METHOD:PUBLISH
BEGIN:VEVENT
UID:69e749ae663c2
DTSTAMP:20260421T095558Z
DTSTART:20251206T150000Z
DTEND:20251206T180000Z
LOCATION:Datsche Datsche
SUMMARY:Feliz NaviDatsch x NIKOLAUSI
DESCRIPTION:Samstag\,  06. Dezember 2025 &#8211; 16-22 UhrNikolausi mit Dj 
 Taip&#8230;.
URL:https://magdeboogie.de/events/feliz-navidatsch-x-nikolausi/
END:VEVENT
END:VCALENDAR