BEGIN:VCALENDAR
VERSION:2.0
PRODID:-//eventon.com NONSGML v1.0//EN
CALSCALE:GREGORIAN
METHOD:PUBLISH
BEGIN:VEVENT
UID:69e88a889fa1f
DTSTAMP:20260422T084456Z
DTSTART:20251207T150000Z
DTEND:20251207T180000Z
LOCATION:Datsche Datsche
SUMMARY:Feliz NaviDatsch x SONNTAGSBUMMS
DESCRIPTION:Filburt (OR*S / Distillery)F.D.M (my Groove)
URL:https://magdeboogie.de/events/feliz-navidatsch-x-sonntagsbumms/
END:VEVENT
END:VCALENDAR