BEGIN:VCALENDAR
VERSION:2.0
PRODID:-//eventon.com NONSGML v1.0//EN
CALSCALE:GREGORIAN
METHOD:PUBLISH
BEGIN:VEVENT
UID:69e74093b053e
DTSTAMP:20260421T091707Z
DTSTART:20260103T220000Z
DTEND:20260104T010000Z
LOCATION:Boys’n’Beats Boys’n’Beats
SUMMARY:LUCA IN THE MIX!
DESCRIPTION:Luca MahoNe´s Karriere im Boys´n`Beats begann beim Newcomer F
 riday. Aktuell legt der Newcomer Twink bei allen größeren GayPartyEvents 
 im ganzen Land auf. Und am heutigen Samstag ist er bei uns! Er bietet euch 
 heute einen bunten Mix aus altbekannten und der Neuzeit! &#8212;&#8212;&#82
 12;&#8212;&#8212;&#8212;&#8212;&#8212;&#8212;&#8212;&#8212;&#8212;&#8212;&#
 8212;Nur mit Erziehungsbeauftragung (Muttizettel) und volljähriger Begleit
 person ist[..]
URL:https://magdeboogie.de/events/luca-in-the-mix-3/
END:VEVENT
END:VCALENDAR