BEGIN:VCALENDAR
VERSION:2.0
PRODID:-//eventon.com NONSGML v1.0//EN
CALSCALE:GREGORIAN
METHOD:PUBLISH
BEGIN:VEVENT
UID:69e4c9338ef21
DTSTAMP:20260419T122315Z
DTSTART:20251209T180000Z
DTEND:20251209T200000Z
LOCATION:kollekTHIEM Thiemstraße 13
SUMMARY:Offenes Treffen - Feministisches Kollektiv Magdeburg
DESCRIPTION:Lust gemeinsam aktiv zu werden? 💜 Einladung zum offenen Tref
 fen des Feministischen Kollektivs 💜 🗓️ Wann? Dienstag\,  09.12.25\,
   um 18 Uhr 📍 Wo? Im Café des kollekTHIEM (Thiemstraße 13\,  39104 MD)
  Schau dir gern unser Selbstverständnis hier auf Instagram oder Crabgrass 
 an! Wenn du dich dem anschließen kannst\,  freuen wir[..]
URL:https://magdeboogie.de/events/offenes-treffen-feministisches-kollektiv-magdeburg/
END:VEVENT
END:VCALENDAR