BEGIN:VCALENDAR
VERSION:2.0
PRODID:-//eventon.com NONSGML v1.0//EN
CALSCALE:GREGORIAN
METHOD:PUBLISH
BEGIN:VEVENT
UID:69e751f416678
DTSTAMP:20260421T103116Z
DTSTART:20260306T200000Z
DTEND:20260306T230000Z
LOCATION:Schauspielhaus Magdeburg\,  Kasino Schauspielhaus Magdeburg\,  Kasino
SUMMARY:STORY KARAOKE BAR
DESCRIPTION:STORY KARAOKE BAReine kollektive Ãœbung im ZuhÃ¶ren und ErzÃ¤hl
 en Wir sind auf der Suche nach deinen Erlebnissen und Geschichten aus Magde
 burg! Ob Mutmach-Geschichten\,  Liebesgeschichten\,  GlÃ¼ck-im-UnglÃ¼ck-Ges
 chichten\,  Geschichten Ã¼ber ZufÃ¤lle\,  MissverstÃ¤ndnisse oder Alltag â€
 “ uns interessieren sie alle!Du schenkst uns deine Geschichte aus Magdeburg
  und wir dichten einen Song daraus!Am 6. MÃ¤rz[..]
URL:https://magdeboogie.de/events/story-karaoke-bar/
END:VEVENT
END:VCALENDAR