BEGIN:VCALENDAR
VERSION:2.0
PRODID:-//eventon.com NONSGML v1.0//EN
CALSCALE:GREGORIAN
METHOD:PUBLISH
BEGIN:VEVENT
UID:69e7351822f25
DTSTAMP:20260421T082808Z
DTSTART:20251231T210000Z
DTEND:20260101T000000Z
LOCATION:KunstimHyperraum Halberstädterstraße 57 Magdeburg KunstimHyperraum Halberstädterstraße 57 Magdeburg
SUMMARY:Silvie&Ester Hyperraumdänce 2025
DESCRIPTION:Silvie&#038;Ester Hyperraumdänce 2025
URL:https://magdeboogie.de/events/silvieester-hyperraumdaence-2025/
END:VEVENT
END:VCALENDAR