BEGIN:VCALENDAR
VERSION:2.0
PRODID:-//eventon.com NONSGML v1.0//EN
CALSCALE:GREGORIAN
METHOD:PUBLISH
BEGIN:VEVENT
UID:69e75f340935b
DTSTAMP:20260421T112748Z
DTSTART:20260130T200000Z
DTEND:20260130T213000Z
LOCATION:Puppentheater Magdeburg Puppentheater Magdeburg
SUMMARY:Gefährliche Liebschaften
DESCRIPTION:Die hinterlistige Marquise de Merteuil und der Frauenheld Vicom
 te de Valmont verbindet das Band der Verachtung. Beide haben es sich aus de
 kadenter Langeweile zum Ziel gemacht\,  mit den Waffen der Betörung ihre M
 itmenschen in den Abgrund zu stürzen. Das aktuelle Objekt ihrer Zerstöru
 ngswut ist die tugendhafte Madame de Tourvel. Ihre[..]
URL:https://magdeboogie.de/events/gefaehrliche-liebschaften-4/
END:VEVENT
END:VCALENDAR