BEGIN:VCALENDAR
VERSION:2.0
PRODID:-//eventon.com NONSGML v1.0//EN
CALSCALE:GREGORIAN
METHOD:PUBLISH
BEGIN:VEVENT
UID:69e89026808b9
DTSTAMP:20260422T090854Z
DTSTART:20260222T100000Z
DTEND:20260222T130000Z
LOCATION:Karl-Schmidt-Straße 56\,  Magdeburg Karl-Schmidt-Straße 56\,  Magdeburg
SUMMARY:Workshop: Schnitzen mit dem Messer
DESCRIPTION:✨ Von der Idee zur eigenen Figur 📅 Sonntag\,  22. Februar 
 2026🕐 11:00–16:00 Uhr📍 Volksbad Buckau👥 Für Mädchen &#038; Fra
 uen💶 Kursgebühr: 38 €📝 Anmeldeschluss: 20. Februar 2026🔨 Materi
 al wird gestellt Im Workshop lernst du den Umgang mit dem Schnitzmesser und
  die Grundlagen des bildhauerischen Gestaltens. Kursleiterin Daniela Schön
 emann begleitet dich[..]
URL:https://magdeboogie.de/events/workshop-schnitzen-mit-dem-messer-2/
END:VEVENT
END:VCALENDAR