BEGIN:VCALENDAR
VERSION:2.0
PRODID:-//eventon.com NONSGML v1.0//EN
CALSCALE:GREGORIAN
METHOD:PUBLISH
BEGIN:VEVENT
UID:69e88b297b1b8
DTSTAMP:20260422T084737Z
DTSTART:20260110T140000Z
DTEND:20260110T160000Z
LOCATION:Sternbrücke\,  Magdeburg\,  Deutschland Sternbrücke\,  Magdeburg\,  Deutschland
SUMMARY:Let´s Connect Magdeburg Spaziergang
DESCRIPTION:Event Details Das nächste Treffen von Let’s Connect Magdebur
 g steht fest: Tragt euch den Samstag\,  10. Januar\,  um 14 Uhr ein. ❄️
 ☃️😊Wie immer treffen wir uns an der Sternbrücke (Stadtparkseite\,  
 beim Steindenkmal) und laufen dann gemeinsam durch den Stadtpark. Vielleich
 t laufen wir gemeinsam durch ein Winter Wonderland? Wir lassen uns[..]
URL:https://magdeboogie.de/events/lets-connect-magdeburg-spaziergang-3/
END:VEVENT
END:VCALENDAR