BEGIN:VCALENDAR
VERSION:2.0
PRODID:-//eventon.com NONSGML v1.0//EN
CALSCALE:GREGORIAN
METHOD:PUBLISH
BEGIN:VEVENT
UID:69e75e6c8bf0b
DTSTAMP:20260421T112428Z
DTSTART:20260210T180000Z
DTEND:20260210T210000Z
LOCATION:OLi-Kino Magdeburg OLi-Kino Magdeburg
SUMMARY:Tuesgay: The Danish Girl
DESCRIPTION:Hooper/ GB\,  US / 2015 / 120 Min / FSK 6 Die bewegende\,  wahr
 e Geschichte von Lili Elbe\,  einer der ersten Frauen\,  die eine vollstän
 dige operative Geschlechtsangleichung wagte. In den 1920er Jahren entdecken
  der renommierte Maler Einar Wegener und seine Frau Gerda\,  dass Einars wa
 hre Identität Lili ist. Während Lili[..]
URL:https://magdeboogie.de/events/tuesgay-the-danish-girl/
END:VEVENT
END:VCALENDAR