BEGIN:VCALENDAR
VERSION:2.0
PRODID:-//eventon.com NONSGML v1.0//EN
CALSCALE:GREGORIAN
METHOD:PUBLISH
BEGIN:VEVENT
UID:69e78a82ca4e1
DTSTAMP:20260421T143234Z
DTSTART:20260219T180000Z
DTEND:20260219T200000Z
LOCATION:Querstyle Querstyle
SUMMARY:Ein musikalisches Schäferstündchen
DESCRIPTION:Bei einem Schäferstündchen der musikalischen Art verführt La
 ra Schäfer ihre Zuhörerschaft mit ihrer warmen\,  dunklen Stimme. Sie erz
 ählt Geschichten von Liebe\,  Sehnsucht und Leidenschaft\,  vom Leben und 
 dem Sein – manchmal staubig trocken\,  manchmal schlüpfrig feucht. Sanft
 e\,  dämmrige Songs aus der blauen Stunde gesellen sich zu stürmischem Bl
 uestreiben aus den[..]
URL:https://magdeboogie.de/events/ein-musikalisches-schaeferstuendchen-3/
END:VEVENT
END:VCALENDAR