BEGIN:VCALENDAR
VERSION:2.0
PRODID:-//eventon.com NONSGML v1.0//EN
CALSCALE:GREGORIAN
METHOD:PUBLISH
BEGIN:VEVENT
UID:69e88abc004e0
DTSTAMP:20260422T084548Z
DTSTART:20260109T180000Z
DTEND:20260109T200000Z
LOCATION:
SUMMARY:Buckauer Küfa — Küche für alle · Kitchen for all
DESCRIPTION:Liebe Menschen\,  in den Wintermonaten findet die Buckauer Küf
 a* jeden Freitag um 18 Uhr im Café vom kollekTHIEM (Thiemstr. 13) statt. E
 s gibt wie immer selbstgekochtes\,  leckeres veganes Essen auf Spendenbasis
 🌱🍲. Küfa bedeutet für uns: gemeinsam kochen\,  sich die Arbeit teil
 en und dadurch mehr Zeit füreinander im Stadtteil zu haben.[..]
URL:https://magdeboogie.de/events/buckauer-kuefa-kueche-fuer-alle-%c2%b7-kitchen-for-all-2/
END:VEVENT
END:VCALENDAR