BEGIN:VCALENDAR
VERSION:2.0
PRODID:-//eventon.com NONSGML v1.0//EN
CALSCALE:GREGORIAN
METHOD:PUBLISH
BEGIN:VEVENT
UID:69e7479bc4a10
DTSTAMP:20260421T094707Z
DTSTART:20260308T130000Z
DTEND:20260308T160000Z
LOCATION:OLi-Kino Magdeburg OLi-Kino Magdeburg
SUMMARY:FILM: ORPHEUS
DESCRIPTION:Francesco Corti dirigiert Telemann 8\, 00–12\, 00 €Sonntag\
 ,  08. März 2026 | 14.00 UhrOLi-Kino Gezeigt wird die Liveaufnahme einer h
 istorisch angelegten Aufführung (12. August 2025)\,  die so recht in die e
 inzigartige Atmosphäre der Weltkulturerbestätte des historischen Barockth
 eater von Schloss Drottningholm (Schweden) passt. Zu erleben ist\,  wie die
  vielschichtige Figur der Orasia eine[..]
URL:https://magdeboogie.de/events/film-orpheus/
END:VEVENT
END:VCALENDAR